BEGIN:VCALENDAR
VERSION:2.0
PRODID:-//Athena//Youth Programs//EN
CALSCALE:GREGORIAN
METHOD:PUBLISH
X-WR-CALNAME:BYU High Performance Gymnastics 1
X-WR-TIMEZONE:America/Denver
BEGIN:VEVENT
UID:program-recY96F6VnSnwFyMb-season@athena.com
DTSTAMP:20260423T223040Z
DTSTART;VALUE=DATE:20260615
DTEND;VALUE=DATE:20260620
SUMMARY:BYU High Performance Gymnastics 1
DESCRIPTION:Offered by: BYU Sports Camps\nCost: $575\nRegister at: https://
 campscui.active.com/orgs/BrighamYoungUniversity0?newcui=true#/selectSessio
 ns/3741635\nView on Athena: https://athena.com/programs/recY96F6VnSnwFyMb
LOCATION:Provo\, UT
URL:https://athena.com/programs/recY96F6VnSnwFyMb
END:VEVENT
END:VCALENDAR