BEGIN:VCALENDAR
VERSION:2.0
PRODID:-//Athena//Youth Programs//EN
CALSCALE:GREGORIAN
METHOD:PUBLISH
X-WR-CALNAME:Impact United Soccer Club
X-WR-TIMEZONE:America/Denver
BEGIN:VEVENT
UID:program-recY0G9fqWRVdiLF9-season@athena.com
DTSTAMP:20260423T223130Z
DTSTART;VALUE=DATE:20260411
DTEND;VALUE=DATE:20260607
SUMMARY:Impact United Soccer Club
DESCRIPTION:Offered by: Impact United Soccer Club\nAges: 6–18\nRegister at:
  https://impactunited.com/tryouts/\nView on Athena: https://athena.com/pro
 grams/recY0G9fqWRVdiLF9
LOCATION:Lehi\, UT
URL:https://athena.com/programs/recY0G9fqWRVdiLF9
END:VEVENT
END:VCALENDAR