BEGIN:VCALENDAR
VERSION:2.0
PRODID:-//Athena//Youth Programs//EN
CALSCALE:GREGORIAN
METHOD:PUBLISH
X-WR-CALNAME:Utah Rec Sports - Summer Coach Pitch (Ages 5-6)
X-WR-TIMEZONE:America/Denver
BEGIN:VEVENT
UID:program-recXnwcBol2TpeGMQ-season@athena.com
DTSTAMP:20260423T223006Z
DTSTART;VALUE=DATE:20260608
DTEND;VALUE=DATE:20260630
SUMMARY:Utah Rec Sports - Summer Coach Pitch (Ages 5-6)
DESCRIPTION:Offered by: Utah Rec Sports\nAges: 5–6\nCost: $35\nRegister at:
  https://utahrecsports.com/register/summer-season-sports/\nView on Athena:
  https://athena.com/programs/recXnwcBol2TpeGMQ
LOCATION:Lehi\, UT
URL:https://athena.com/programs/recXnwcBol2TpeGMQ
END:VEVENT
END:VCALENDAR