BEGIN:VCALENDAR
VERSION:2.0
PRODID:-//Athena//Youth Programs//EN
CALSCALE:GREGORIAN
METHOD:PUBLISH
X-WR-CALNAME:BYU Cubs Cougarette Intermediate Camp
X-WR-TIMEZONE:America/Denver
BEGIN:VEVENT
UID:program-recWcdz3R2G4xP6CD-season@athena.com
DTSTAMP:20260423T222747Z
DTSTART;VALUE=DATE:20260618
DTEND;VALUE=DATE:20260621
SUMMARY:BYU Cubs Cougarette Intermediate Camp
DESCRIPTION:Offered by: BYU Sports Camps\nCost: $185\nRegister at: https://
 campscui.active.com/orgs/BrighamYoungUniversity0?newcui=true#/selectSessio
 ns/3741635\nView on Athena: https://athena.com/programs/recWcdz3R2G4xP6CD
LOCATION:Provo\, UT
URL:https://athena.com/programs/recWcdz3R2G4xP6CD
END:VEVENT
END:VCALENDAR