BEGIN:VCALENDAR
VERSION:2.0
PRODID:-//Athena//Youth Programs//EN
CALSCALE:GREGORIAN
METHOD:PUBLISH
X-WR-CALNAME:Lehi Youth Football - Football
X-WR-TIMEZONE:America/Denver
BEGIN:VEVENT
UID:program-recVxJiqwdmhdFPNz-season@athena.com
DTSTAMP:20260423T205757Z
DTSTART;VALUE=DATE:20260727
DTEND;VALUE=DATE:20261201
SUMMARY:Lehi Youth Football - Football
DESCRIPTION:Offered by: Lehi Youth Football\nAges: 1–9\nCost: $500\nRegiste
 r at: https://lehiyouthfootball.org/home\nView on Athena: https://athena.c
 om/programs/recVxJiqwdmhdFPNz
LOCATION:Lehi\, UT
URL:https://athena.com/programs/recVxJiqwdmhdFPNz
END:VEVENT
BEGIN:VEVENT
UID:program-recVxJiqwdmhdFPNz-deadline@athena.com
DTSTAMP:20260423T205757Z
DTSTART;VALUE=DATE:20260530
DTEND;VALUE=DATE:20260531
SUMMARY:Register by today: Lehi Youth Football - Football
DESCRIPTION:Registration deadline for Lehi Youth Football - Football.\n\nOf
 fered by: Lehi Youth Football\nAges: 1–9\nCost: $500\nRegister at: https:/
 /lehiyouthfootball.org/home\nView on Athena: https://athena.com/programs/r
 ecVxJiqwdmhdFPNz
LOCATION:Lehi\, UT
URL:https://athena.com/programs/recVxJiqwdmhdFPNz
END:VEVENT
END:VCALENDAR