BEGIN:VCALENDAR
VERSION:2.0
PRODID:-//Athena//Youth Programs//EN
CALSCALE:GREGORIAN
METHOD:PUBLISH
X-WR-CALNAME:Lehi Youth Football - Gymnastics
X-WR-TIMEZONE:America/Denver
BEGIN:VEVENT
UID:program-recUTP2Y2HkROVFEu-season@athena.com
DTSTAMP:20260423T205629Z
DTSTART;VALUE=DATE:20260727
DTEND;VALUE=DATE:20261201
SUMMARY:Lehi Youth Football - Gymnastics
DESCRIPTION:Offered by: Lehi Youth Football\nAges: 1–9\nCost: $500\nRegiste
 r at: https://lehiyouthfootball.org/home\nView on Athena: https://athena.c
 om/programs/recUTP2Y2HkROVFEu
LOCATION:Lehi\, UT
URL:https://athena.com/programs/recUTP2Y2HkROVFEu
END:VEVENT
BEGIN:VEVENT
UID:program-recUTP2Y2HkROVFEu-deadline@athena.com
DTSTAMP:20260423T205629Z
DTSTART;VALUE=DATE:20260530
DTEND;VALUE=DATE:20260531
SUMMARY:Register by today: Lehi Youth Football - Gymnastics
DESCRIPTION:Registration deadline for Lehi Youth Football - Gymnastics.\n\n
 Offered by: Lehi Youth Football\nAges: 1–9\nCost: $500\nRegister at: https
 ://lehiyouthfootball.org/home\nView on Athena: https://athena.com/programs
 /recUTP2Y2HkROVFEu
LOCATION:Lehi\, UT
URL:https://athena.com/programs/recUTP2Y2HkROVFEu
END:VEVENT
END:VCALENDAR