BEGIN:VCALENDAR
VERSION:2.0
PRODID:-//Athena//Youth Programs//EN
CALSCALE:GREGORIAN
METHOD:PUBLISH
X-WR-CALNAME:Riverton Youth Baseball - Machine Pitch (Ages 7-8)
X-WR-TIMEZONE:America/Denver
BEGIN:VEVENT
UID:program-recULIpGq6ll78OPl-season@athena.com
DTSTAMP:20260423T222812Z
DTSTART;VALUE=DATE:20260805
DTEND;VALUE=DATE:20260828
SUMMARY:Riverton Youth Baseball - Machine Pitch (Ages 7-8)
DESCRIPTION:Offered by: Riverton City Recreation\nAges: 7–8\nRegister at: h
 ttps://www.rivertonutah.gov/recreation/programs/youth/baseball.php\nView o
 n Athena: https://athena.com/programs/recULIpGq6ll78OPl
LOCATION:Riverton\, UT
URL:https://athena.com/programs/recULIpGq6ll78OPl
END:VEVENT
END:VCALENDAR