BEGIN:VCALENDAR
VERSION:2.0
PRODID:-//Athena//Youth Programs//EN
CALSCALE:GREGORIAN
METHOD:PUBLISH
X-WR-CALNAME:BYU Tennis 1
X-WR-TIMEZONE:America/Denver
BEGIN:VEVENT
UID:program-recUC2Fv8dc2Qu2oO-season@athena.com
DTSTAMP:20260423T222455Z
DTSTART;VALUE=DATE:20260608
DTEND;VALUE=DATE:20260614
SUMMARY:BYU Tennis 1
DESCRIPTION:Offered by: BYU Sports Camps\nCost: $699\nRegister at: https://
 campscui.active.com/orgs/BrighamYoungUniversity0?newcui=true#/selectSessio
 ns/3741635\nView on Athena: https://athena.com/programs/recUC2Fv8dc2Qu2oO
LOCATION:Provo\, UT
URL:https://athena.com/programs/recUC2Fv8dc2Qu2oO
END:VEVENT
END:VCALENDAR