BEGIN:VCALENDAR
VERSION:2.0
PRODID:-//Athena//Youth Programs//EN
CALSCALE:GREGORIAN
METHOD:PUBLISH
X-WR-CALNAME:American Fork Youth Track
X-WR-TIMEZONE:America/Denver
BEGIN:VEVENT
UID:program-recU5itcI412V7cYQ-season@athena.com
DTSTAMP:20260423T223129Z
DTSTART;VALUE=DATE:20260420
DTEND;VALUE=DATE:20260611
SUMMARY:American Fork Youth Track
DESCRIPTION:Offered by: American Fork Recreation\nAges: 7–14\nCost: $68\nRe
 gister at: https://www.americanfork.gov/1147/Youth-Track-Field\nView on At
 hena: https://athena.com/programs/recU5itcI412V7cYQ
LOCATION:American Fork\, UT
URL:https://athena.com/programs/recU5itcI412V7cYQ
END:VEVENT
BEGIN:VEVENT
UID:program-recU5itcI412V7cYQ-deadline@athena.com
DTSTAMP:20260423T223129Z
DTSTART;VALUE=DATE:20260318
DTEND;VALUE=DATE:20260319
SUMMARY:Register by today: American Fork Youth Track
DESCRIPTION:Registration deadline for American Fork Youth Track.\n\nOffered
  by: American Fork Recreation\nAges: 7–14\nCost: $68\nRegister at: https:/
 /www.americanfork.gov/1147/Youth-Track-Field\nView on Athena: https://athe
 na.com/programs/recU5itcI412V7cYQ
LOCATION:American Fork\, UT
URL:https://athena.com/programs/recU5itcI412V7cYQ
END:VEVENT
END:VCALENDAR