BEGIN:VCALENDAR
VERSION:2.0
PRODID:-//Athena//Youth Programs//EN
CALSCALE:GREGORIAN
METHOD:PUBLISH
X-WR-CALNAME:Spring Wrestling
X-WR-TIMEZONE:America/Denver
BEGIN:VEVENT
UID:program-recU2ruSrCMiC6C48-season@athena.com
DTSTAMP:20260423T222958Z
DTSTART;VALUE=DATE:20260401
DTEND;VALUE=DATE:20260402
SUMMARY:Spring Wrestling
DESCRIPTION:Offered by: Lehi Legacy Center\nAges: 10–13\nRegister at: https
 ://www.lehi-ut.gov/recreation-community/legacy-center/sports/youth-sports/
 \nView on Athena: https://athena.com/programs/recU2ruSrCMiC6C48
LOCATION:Lehi\, UT
URL:https://athena.com/programs/recU2ruSrCMiC6C48
END:VEVENT
BEGIN:VEVENT
UID:program-recU2ruSrCMiC6C48-deadline@athena.com
DTSTAMP:20260423T222958Z
DTSTART;VALUE=DATE:20260318
DTEND;VALUE=DATE:20260319
SUMMARY:Register by today: Spring Wrestling
DESCRIPTION:Registration deadline for Spring Wrestling.\n\nOffered by: Lehi
  Legacy Center\nAges: 10–13\nRegister at: https://www.lehi-ut.gov/recreati
 on-community/legacy-center/sports/youth-sports/\nView on Athena: https://a
 thena.com/programs/recU2ruSrCMiC6C48
LOCATION:Lehi\, UT
URL:https://athena.com/programs/recU2ruSrCMiC6C48
END:VEVENT
END:VCALENDAR