BEGIN:VCALENDAR
VERSION:2.0
PRODID:-//Athena//Youth Programs//EN
CALSCALE:GREGORIAN
METHOD:PUBLISH
X-WR-CALNAME:Sport City Utah - Volleyball Summer Camp Session 2 (Ages 5-12)
X-WR-TIMEZONE:America/Denver
BEGIN:VEVENT
UID:program-recTGPjqq8lXkWuZF-season@athena.com
DTSTAMP:20260423T223205Z
DTSTART;VALUE=DATE:20260707
DTEND;VALUE=DATE:20260724
SUMMARY:Sport City Utah - Volleyball Summer Camp Session 2 (Ages 5-12)
DESCRIPTION:Offered by: Sport City Utah\nAges: 5–12\nCost: $175\nRegister a
 t: https://www.sportcityutah.com/summer-camp\nView on Athena: https://athe
 na.com/programs/recTGPjqq8lXkWuZF
LOCATION:Draper\, UT
URL:https://athena.com/programs/recTGPjqq8lXkWuZF
END:VEVENT
END:VCALENDAR