BEGIN:VCALENDAR
VERSION:2.0
PRODID:-//Athena//Youth Programs//EN
CALSCALE:GREGORIAN
METHOD:PUBLISH
X-WR-CALNAME:Soelberg Track Club
X-WR-TIMEZONE:America/Denver
BEGIN:VEVENT
UID:program-recTGGnmDFivKeIei-season@athena.com
DTSTAMP:20260423T222628Z
DTSTART;VALUE=DATE:20260413
DTEND;VALUE=DATE:20260701
SUMMARY:Soelberg Track Club
DESCRIPTION:Offered by: Utah Speed Academy\nAges: 6–18\nCost: $330\nRegiste
 r at: https://www.utahspeedacademy.com/soelberg-track-club\nView on Athena
 : https://athena.com/programs/recTGGnmDFivKeIei
LOCATION:Lehi\, UT
URL:https://athena.com/programs/recTGGnmDFivKeIei
END:VEVENT
BEGIN:VEVENT
UID:program-recTGGnmDFivKeIei-deadline@athena.com
DTSTAMP:20260423T222628Z
DTSTART;VALUE=DATE:20260401
DTEND;VALUE=DATE:20260402
SUMMARY:Register by today: Soelberg Track Club
DESCRIPTION:Registration deadline for Soelberg Track Club.\n\nOffered by: U
 tah Speed Academy\nAges: 6–18\nCost: $330\nRegister at: https://www.utahsp
 eedacademy.com/soelberg-track-club\nView on Athena: https://athena.com/pro
 grams/recTGGnmDFivKeIei
LOCATION:Lehi\, UT
URL:https://athena.com/programs/recTGGnmDFivKeIei
END:VEVENT
END:VCALENDAR