BEGIN:VCALENDAR
VERSION:2.0
PRODID:-//Athena//Youth Programs//EN
CALSCALE:GREGORIAN
METHOD:PUBLISH
X-WR-CALNAME:UPG Baseball – Spring Weekday League
X-WR-TIMEZONE:America/Denver
BEGIN:VEVENT
UID:program-recS2DZBXUOh1GkXh-season@athena.com
DTSTAMP:20260423T223205Z
DTSTART;VALUE=DATE:20260413
DTEND;VALUE=DATE:20260414
SUMMARY:UPG Baseball – Spring Weekday League
DESCRIPTION:Offered by: UPG Baseball\nAges: 9–13\nRegister at: https://www.
 upgbaseball.com/\nView on Athena: https://athena.com/programs/recS2DZBXUOh
 1GkXh
LOCATION:Lehi\, UT
URL:https://athena.com/programs/recS2DZBXUOh1GkXh
END:VEVENT
END:VCALENDAR