BEGIN:VCALENDAR
VERSION:2.0
PRODID:-//Athena//Youth Programs//EN
CALSCALE:GREGORIAN
METHOD:PUBLISH
X-WR-CALNAME:Utah Futsal
X-WR-TIMEZONE:America/Denver
BEGIN:VEVENT
UID:program-recQq7N3QT7UDQNpd-season@athena.com
DTSTAMP:20260423T223133Z
DTSTART;VALUE=DATE:20261025
DTEND;VALUE=DATE:20270101
SUMMARY:Utah Futsal
DESCRIPTION:Offered by: Utah Futsal\nAges: 7–18\nCost: $800\nRegister at: h
 ttps://www.utahfutsal.org/copy-of-youth-session-1\nView on Athena: https:/
 /athena.com/programs/recQq7N3QT7UDQNpd
LOCATION:Lehi\, UT
URL:https://athena.com/programs/recQq7N3QT7UDQNpd
END:VEVENT
BEGIN:VEVENT
UID:program-recQq7N3QT7UDQNpd-deadline@athena.com
DTSTAMP:20260423T223133Z
DTSTART;VALUE=DATE:20261018
DTEND;VALUE=DATE:20261019
SUMMARY:Register by today: Utah Futsal
DESCRIPTION:Registration deadline for Utah Futsal.\n\nOffered by: Utah Futs
 al\nAges: 7–18\nCost: $800\nRegister at: https://www.utahfutsal.org/copy-o
 f-youth-session-1\nView on Athena: https://athena.com/programs/recQq7N3QT7
 UDQNpd
LOCATION:Lehi\, UT
URL:https://athena.com/programs/recQq7N3QT7UDQNpd
END:VEVENT
END:VCALENDAR