BEGIN:VCALENDAR
VERSION:2.0
PRODID:-//Athena//Youth Programs//EN
CALSCALE:GREGORIAN
METHOD:PUBLISH
X-WR-CALNAME:BYU Volleyball All Skills Camp
X-WR-TIMEZONE:America/Denver
BEGIN:VEVENT
UID:program-recQJhuYsT5OdeoRG-season@athena.com
DTSTAMP:20260423T223040Z
DTSTART;VALUE=DATE:20260529
DTEND;VALUE=DATE:20260601
SUMMARY:BYU Volleyball All Skills Camp
DESCRIPTION:Offered by: BYU Sports Camps\nCost: $290\nRegister at: https://
 campscui.active.com/orgs/BrighamYoungUniversity0?newcui=true#/selectSessio
 ns/3741635\nView on Athena: https://athena.com/programs/recQJhuYsT5OdeoRG
LOCATION:Provo\, UT
URL:https://athena.com/programs/recQJhuYsT5OdeoRG
END:VEVENT
END:VCALENDAR