BEGIN:VCALENDAR
VERSION:2.0
PRODID:-//Athena//Youth Programs//EN
CALSCALE:GREGORIAN
METHOD:PUBLISH
X-WR-CALNAME:Youth Basketball (9th-12th Grade)
X-WR-TIMEZONE:America/Denver
BEGIN:VEVENT
UID:program-recQIQw1ywzuyevKB-season@athena.com
DTSTAMP:20260423T222847Z
DTSTART;VALUE=DATE:20261114
DTEND;VALUE=DATE:20261115
SUMMARY:Youth Basketball (9th-12th Grade)
DESCRIPTION:Offered by: Lehi Legacy Center\nAges: 14–17\nRegister at: https
 ://www.lehi-ut.gov/recreation-community/legacy-center/sports/youth-sports/
 \nView on Athena: https://athena.com/programs/recQIQw1ywzuyevKB
LOCATION:Lehi\, UT
URL:https://athena.com/programs/recQIQw1ywzuyevKB
END:VEVENT
BEGIN:VEVENT
UID:program-recQIQw1ywzuyevKB-deadline@athena.com
DTSTAMP:20260423T222847Z
DTSTART;VALUE=DATE:20261104
DTEND;VALUE=DATE:20261105
SUMMARY:Register by today: Youth Basketball (9th-12th Grade)
DESCRIPTION:Registration deadline for Youth Basketball (9th-12th Grade).\n\
 nOffered by: Lehi Legacy Center\nAges: 14–17\nRegister at: https://www.leh
 i-ut.gov/recreation-community/legacy-center/sports/youth-sports/\nView on 
 Athena: https://athena.com/programs/recQIQw1ywzuyevKB
LOCATION:Lehi\, UT
URL:https://athena.com/programs/recQIQw1ywzuyevKB
END:VEVENT
END:VCALENDAR