BEGIN:VCALENDAR
VERSION:2.0
PRODID:-//Athena//Youth Programs//EN
CALSCALE:GREGORIAN
METHOD:PUBLISH
X-WR-CALNAME:T-Ball/Coach Pitch
X-WR-TIMEZONE:America/Denver
BEGIN:VEVENT
UID:program-recQHARnTrXkQIYIS-season@athena.com
DTSTAMP:20260423T222955Z
DTSTART;VALUE=DATE:20260401
DTEND;VALUE=DATE:20260402
SUMMARY:T-Ball/Coach Pitch
DESCRIPTION:Offered by: Lehi Legacy Center\nAges: 5–6\nRegister at: https:/
 /www.lehi-ut.gov/recreation-community/legacy-center/sports/youth-sports/\n
 View on Athena: https://athena.com/programs/recQHARnTrXkQIYIS
LOCATION:Lehi\, UT
URL:https://athena.com/programs/recQHARnTrXkQIYIS
END:VEVENT
BEGIN:VEVENT
UID:program-recQHARnTrXkQIYIS-deadline@athena.com
DTSTAMP:20260423T222955Z
DTSTART;VALUE=DATE:20260318
DTEND;VALUE=DATE:20260319
SUMMARY:Register by today: T-Ball/Coach Pitch
DESCRIPTION:Registration deadline for T-Ball/Coach Pitch.\n\nOffered by: Le
 hi Legacy Center\nAges: 5–6\nRegister at: https://www.lehi-ut.gov/recreati
 on-community/legacy-center/sports/youth-sports/\nView on Athena: https://a
 thena.com/programs/recQHARnTrXkQIYIS
LOCATION:Lehi\, UT
URL:https://athena.com/programs/recQHARnTrXkQIYIS
END:VEVENT
END:VCALENDAR