BEGIN:VCALENDAR
VERSION:2.0
PRODID:-//Athena//Youth Programs//EN
CALSCALE:GREGORIAN
METHOD:PUBLISH
X-WR-CALNAME:Provo City Recreation Soccer
X-WR-TIMEZONE:America/Denver
BEGIN:VEVENT
UID:program-recQCThftFoWJ7us6-season@athena.com
DTSTAMP:20260423T222957Z
DTSTART;VALUE=DATE:20260819
DTEND;VALUE=DATE:20260929
SUMMARY:Provo City Recreation Soccer
DESCRIPTION:Offered by: Provo City Recreation\nAges: 4–15\nRegister at: htt
 ps://www.provo.gov/445/Soccer\nView on Athena: https://athena.com/programs
 /recQCThftFoWJ7us6
LOCATION:Provo\, UT
URL:https://athena.com/programs/recQCThftFoWJ7us6
END:VEVENT
BEGIN:VEVENT
UID:program-recQCThftFoWJ7us6-deadline@athena.com
DTSTAMP:20260423T222957Z
DTSTART;VALUE=DATE:20260725
DTEND;VALUE=DATE:20260726
SUMMARY:Register by today: Provo City Recreation Soccer
DESCRIPTION:Registration deadline for Provo City Recreation Soccer.\n\nOffe
 red by: Provo City Recreation\nAges: 4–15\nRegister at: https://www.provo.
 gov/445/Soccer\nView on Athena: https://athena.com/programs/recQCThftFoWJ7
 us6
LOCATION:Provo\, UT
URL:https://athena.com/programs/recQCThftFoWJ7us6
END:VEVENT
END:VCALENDAR