BEGIN:VCALENDAR
VERSION:2.0
PRODID:-//Athena//Youth Programs//EN
CALSCALE:GREGORIAN
METHOD:PUBLISH
X-WR-CALNAME:Cross Country
X-WR-TIMEZONE:America/Denver
BEGIN:VEVENT
UID:program-recPAGianPM53unyE-season@athena.com
DTSTAMP:20260423T222813Z
DTSTART;VALUE=DATE:20260801
DTEND;VALUE=DATE:20260802
SUMMARY:Cross Country
DESCRIPTION:Offered by: Lehi Legacy Center\nAges: 6–14\nRegister at: https:
 //www.lehi-ut.gov/recreation-community/legacy-center/sports/youth-sports/\
 nView on Athena: https://athena.com/programs/recPAGianPM53unyE
LOCATION:Lehi\, UT
URL:https://athena.com/programs/recPAGianPM53unyE
END:VEVENT
BEGIN:VEVENT
UID:program-recPAGianPM53unyE-deadline@athena.com
DTSTAMP:20260423T222813Z
DTSTART;VALUE=DATE:20260708
DTEND;VALUE=DATE:20260709
SUMMARY:Register by today: Cross Country
DESCRIPTION:Registration deadline for Cross Country.\n\nOffered by: Lehi Le
 gacy Center\nAges: 6–14\nRegister at: https://www.lehi-ut.gov/recreation-c
 ommunity/legacy-center/sports/youth-sports/\nView on Athena: https://athen
 a.com/programs/recPAGianPM53unyE
LOCATION:Lehi\, UT
URL:https://athena.com/programs/recPAGianPM53unyE
END:VEVENT
END:VCALENDAR