BEGIN:VCALENDAR
VERSION:2.0
PRODID:-//Athena//Youth Programs//EN
CALSCALE:GREGORIAN
METHOD:PUBLISH
X-WR-CALNAME:Summer Basketball Camp
X-WR-TIMEZONE:America/Denver
BEGIN:VEVENT
UID:program-recNq9KiukxnscGqp-season@athena.com
DTSTAMP:20260423T210453Z
DTSTART;VALUE=DATE:20260713
DTEND;VALUE=DATE:20260714
SUMMARY:Summer Basketball Camp
DESCRIPTION:Offered by: Lehi Legacy Center\nAges: 5–17\nRegister at: https:
 //www.lehi-ut.gov/recreation-community/legacy-center/sports/youth-sports/\
 nView on Athena: https://athena.com/programs/recNq9KiukxnscGqp
LOCATION:Lehi\, UT
URL:https://athena.com/programs/recNq9KiukxnscGqp
END:VEVENT
BEGIN:VEVENT
UID:program-recNq9KiukxnscGqp-deadline@athena.com
DTSTAMP:20260423T210453Z
DTSTART;VALUE=DATE:20260708
DTEND;VALUE=DATE:20260709
SUMMARY:Register by today: Summer Basketball Camp
DESCRIPTION:Registration deadline for Summer Basketball Camp.\n\nOffered by
 : Lehi Legacy Center\nAges: 5–17\nRegister at: https://www.lehi-ut.gov/rec
 reation-community/legacy-center/sports/youth-sports/\nView on Athena: http
 s://athena.com/programs/recNq9KiukxnscGqp
LOCATION:Lehi\, UT
URL:https://athena.com/programs/recNq9KiukxnscGqp
END:VEVENT
END:VCALENDAR