BEGIN:VCALENDAR
VERSION:2.0
PRODID:-//Athena//Youth Programs//EN
CALSCALE:GREGORIAN
METHOD:PUBLISH
X-WR-CALNAME:Club Utah - Little Ballers
X-WR-TIMEZONE:America/Denver
BEGIN:VEVENT
UID:program-recMxWTwN9m4jJPPF-season@athena.com
DTSTAMP:20260423T223128Z
DTSTART;VALUE=DATE:20260101
DTEND;VALUE=DATE:20260102
SUMMARY:Club Utah - Little Ballers
DESCRIPTION:Offered by: Club Utah Basketball\nAges: 5–6\nCost: $80\nRegiste
 r at: https://clubutah.org/little-ballers\nView on Athena: https://athena.
 com/programs/recMxWTwN9m4jJPPF
LOCATION:Lehi\, UT
URL:https://athena.com/programs/recMxWTwN9m4jJPPF
END:VEVENT
END:VCALENDAR