BEGIN:VCALENDAR
VERSION:2.0
PRODID:-//Athena//Youth Programs//EN
CALSCALE:GREGORIAN
METHOD:PUBLISH
X-WR-CALNAME:Spring Outdoor Soccer
X-WR-TIMEZONE:America/Denver
BEGIN:VEVENT
UID:program-recLsdOIzuZSovgiz-season@athena.com
DTSTAMP:20260423T222750Z
DTSTART;VALUE=DATE:20260321
DTEND;VALUE=DATE:20260322
SUMMARY:Spring Outdoor Soccer
DESCRIPTION:Offered by: Lehi Legacy Center\nAges: 5–14\nRegister at: https:
 //www.lehi-ut.gov/recreation-community/legacy-center/sports/youth-sports/\
 nView on Athena: https://athena.com/programs/recLsdOIzuZSovgiz
LOCATION:Lehi\, UT
URL:https://athena.com/programs/recLsdOIzuZSovgiz
END:VEVENT
BEGIN:VEVENT
UID:program-recLsdOIzuZSovgiz-deadline@athena.com
DTSTAMP:20260423T222750Z
DTSTART;VALUE=DATE:20260218
DTEND;VALUE=DATE:20260219
SUMMARY:Register by today: Spring Outdoor Soccer
DESCRIPTION:Registration deadline for Spring Outdoor Soccer.\n\nOffered by:
  Lehi Legacy Center\nAges: 5–14\nRegister at: https://www.lehi-ut.gov/recr
 eation-community/legacy-center/sports/youth-sports/\nView on Athena: https
 ://athena.com/programs/recLsdOIzuZSovgiz
LOCATION:Lehi\, UT
URL:https://athena.com/programs/recLsdOIzuZSovgiz
END:VEVENT
END:VCALENDAR