BEGIN:VCALENDAR
VERSION:2.0
PRODID:-//Athena//Youth Programs//EN
CALSCALE:GREGORIAN
METHOD:PUBLISH
X-WR-CALNAME:Lehi Youth Basketball
X-WR-TIMEZONE:America/Denver
BEGIN:VEVENT
UID:program-recLZ2QxY9u7aONuG-season@athena.com
DTSTAMP:20260423T223206Z
DTSTART;VALUE=DATE:20260825
DTEND;VALUE=DATE:20260826
SUMMARY:Lehi Youth Basketball
DESCRIPTION:Offered by: Lehi Youth Basketball\nAges: 9–12\nCost: $300\nRegi
 ster at: https://www.lehiyouthbasketball.com/player-registration\nView on 
 Athena: https://athena.com/programs/recLZ2QxY9u7aONuG
LOCATION:Lehi\, UT
URL:https://athena.com/programs/recLZ2QxY9u7aONuG
END:VEVENT
END:VCALENDAR