BEGIN:VCALENDAR
VERSION:2.0
PRODID:-//Athena//Youth Programs//EN
CALSCALE:GREGORIAN
METHOD:PUBLISH
X-WR-CALNAME:Riverton Youth Baseball - Coach Pitch (Ages 5-6)
X-WR-TIMEZONE:America/Denver
BEGIN:VEVENT
UID:program-recLVzthMRB1nFyHn-season@athena.com
DTSTAMP:20260423T223133Z
DTSTART;VALUE=DATE:20260805
DTEND;VALUE=DATE:20260828
SUMMARY:Riverton Youth Baseball - Coach Pitch (Ages 5-6)
DESCRIPTION:Offered by: Riverton City Recreation\nAges: 5–6\nRegister at: h
 ttps://www.rivertonutah.gov/recreation/programs/youth/baseball.php\nView o
 n Athena: https://athena.com/programs/recLVzthMRB1nFyHn
LOCATION:Riverton\, UT
URL:https://athena.com/programs/recLVzthMRB1nFyHn
END:VEVENT
END:VCALENDAR