BEGIN:VCALENDAR
VERSION:2.0
PRODID:-//Athena//Youth Programs//EN
CALSCALE:GREGORIAN
METHOD:PUBLISH
X-WR-CALNAME:Girls Volleyball
X-WR-TIMEZONE:America/Denver
BEGIN:VEVENT
UID:program-recKukEraPQGeWdnj-season@athena.com
DTSTAMP:20260423T222638Z
DTSTART;VALUE=DATE:20260701
DTEND;VALUE=DATE:20260702
SUMMARY:Girls Volleyball
DESCRIPTION:Offered by: Lehi Legacy Center\nAges: 8–17\nRegister at: https:
 //www.lehi-ut.gov/recreation-community/legacy-center/sports/youth-sports/\
 nView on Athena: https://athena.com/programs/recKukEraPQGeWdnj
LOCATION:Lehi\, UT
URL:https://athena.com/programs/recKukEraPQGeWdnj
END:VEVENT
BEGIN:VEVENT
UID:program-recKukEraPQGeWdnj-deadline@athena.com
DTSTAMP:20260423T222638Z
DTSTART;VALUE=DATE:20260617
DTEND;VALUE=DATE:20260618
SUMMARY:Register by today: Girls Volleyball
DESCRIPTION:Registration deadline for Girls Volleyball.\n\nOffered by: Lehi
  Legacy Center\nAges: 8–17\nRegister at: https://www.lehi-ut.gov/recreatio
 n-community/legacy-center/sports/youth-sports/\nView on Athena: https://at
 hena.com/programs/recKukEraPQGeWdnj
LOCATION:Lehi\, UT
URL:https://athena.com/programs/recKukEraPQGeWdnj
END:VEVENT
END:VCALENDAR