BEGIN:VCALENDAR
VERSION:2.0
PRODID:-//Athena//Youth Programs//EN
CALSCALE:GREGORIAN
METHOD:PUBLISH
X-WR-CALNAME:Track and Field
X-WR-TIMEZONE:America/Denver
BEGIN:VEVENT
UID:program-recJuzdYiNBdOgsG5-season@athena.com
DTSTAMP:20260423T223135Z
DTSTART;VALUE=DATE:20260404
DTEND;VALUE=DATE:20260405
SUMMARY:Track and Field
DESCRIPTION:Offered by: Lehi Legacy Center\nAges: 6–14\nRegister at: https:
 //www.lehi-ut.gov/recreation-community/legacy-center/sports/youth-sports/\
 nView on Athena: https://athena.com/programs/recJuzdYiNBdOgsG5
LOCATION:Lehi\, UT
URL:https://athena.com/programs/recJuzdYiNBdOgsG5
END:VEVENT
BEGIN:VEVENT
UID:program-recJuzdYiNBdOgsG5-deadline@athena.com
DTSTAMP:20260423T223135Z
DTSTART;VALUE=DATE:20260304
DTEND;VALUE=DATE:20260305
SUMMARY:Register by today: Track and Field
DESCRIPTION:Registration deadline for Track and Field.\n\nOffered by: Lehi 
 Legacy Center\nAges: 6–14\nRegister at: https://www.lehi-ut.gov/recreation
 -community/legacy-center/sports/youth-sports/\nView on Athena: https://ath
 ena.com/programs/recJuzdYiNBdOgsG5
LOCATION:Lehi\, UT
URL:https://athena.com/programs/recJuzdYiNBdOgsG5
END:VEVENT
END:VCALENDAR