BEGIN:VCALENDAR
VERSION:2.0
PRODID:-//Athena//Youth Programs//EN
CALSCALE:GREGORIAN
METHOD:PUBLISH
X-WR-CALNAME:Pleasant Grove Youth Baseball (Ages 6-7)
X-WR-TIMEZONE:America/Denver
BEGIN:VEVENT
UID:program-recJtMLYx2kAPr34S-deadline@athena.com
DTSTAMP:20260423T222637Z
DTSTART;VALUE=DATE:20260415
DTEND;VALUE=DATE:20260416
SUMMARY:Register by today: Pleasant Grove Youth Baseball (Ages 6-7)
DESCRIPTION:Registration deadline for Pleasant Grove Youth Baseball (Ages 6
 -7).\n\nOffered by: Pleasant Grove Recreation\nAges: 6–7\nRegister at: htt
 ps://pgrec.activityreg.com/selectactivity_t2.wcs\nView on Athena: https://
 athena.com/programs/recJtMLYx2kAPr34S
LOCATION:Pleasant Grove\, UT
URL:https://athena.com/programs/recJtMLYx2kAPr34S
END:VEVENT
END:VCALENDAR