BEGIN:VCALENDAR
VERSION:2.0
PRODID:-//Athena//Youth Programs//EN
CALSCALE:GREGORIAN
METHOD:PUBLISH
X-WR-CALNAME:RSL Field Camp - Herriman Session 1 (Ages 5-18)
X-WR-TIMEZONE:America/Denver
BEGIN:VEVENT
UID:program-recJbPRnLRBKMA4Iq-season@athena.com
DTSTAMP:20260423T222652Z
DTSTART;VALUE=DATE:20260608
DTEND;VALUE=DATE:20260612
SUMMARY:RSL Field Camp - Herriman Session 1 (Ages 5-18)
DESCRIPTION:Offered by: Real Salt Lake\nAges: 5–18\nRegister at: https://rs
 l.activityreg.com/selectActivity\nView on Athena: https://athena.com/progr
 ams/recJbPRnLRBKMA4Iq
LOCATION:Herriman\, UT
URL:https://athena.com/programs/recJbPRnLRBKMA4Iq
END:VEVENT
END:VCALENDAR