BEGIN:VCALENDAR
VERSION:2.0
PRODID:-//Athena//Youth Programs//EN
CALSCALE:GREGORIAN
METHOD:PUBLISH
X-WR-CALNAME:Wasatch Nature School - Junior Camp (Ages 3-8)
X-WR-TIMEZONE:America/Denver
BEGIN:VEVENT
UID:program-recJN48CvsGw5G7DM-season@athena.com
DTSTAMP:20260423T222806Z
DTSTART;VALUE=DATE:20260601
DTEND;VALUE=DATE:20260801
SUMMARY:Wasatch Nature School - Junior Camp (Ages 3-8)
DESCRIPTION:Offered by: Wasatch Nature School\nAges: 3–8\nCost: $180\nRegis
 ter at: https://www.wasatchnatureschool.org/summercamp2026\nView on Athena
 : https://athena.com/programs/recJN48CvsGw5G7DM
LOCATION:Provo\, UT
URL:https://athena.com/programs/recJN48CvsGw5G7DM
END:VEVENT
END:VCALENDAR