BEGIN:VCALENDAR
VERSION:2.0
PRODID:-//Athena//Youth Programs//EN
CALSCALE:GREGORIAN
METHOD:PUBLISH
X-WR-CALNAME:BYU Sports Camps - Volleyball
X-WR-TIMEZONE:America/Denver
BEGIN:VEVENT
UID:program-recIKNb4cuDEbWVfN-season@athena.com
DTSTAMP:20260423T222956Z
DTSTART;VALUE=DATE:20260425
DTEND;VALUE=DATE:20260809
SUMMARY:BYU Sports Camps - Volleyball
DESCRIPTION:Offered by: BYU Sports Camps\nRegister at: https://www.byusport
 scamps.com/\nView on Athena: https://athena.com/programs/recIKNb4cuDEbWVfN
LOCATION:Provo\, UT
URL:https://athena.com/programs/recIKNb4cuDEbWVfN
END:VEVENT
END:VCALENDAR