BEGIN:VCALENDAR
VERSION:2.0
PRODID:-//Athena//Youth Programs//EN
CALSCALE:GREGORIAN
METHOD:PUBLISH
X-WR-CALNAME:Sport City Utah - Tumbling & Cheer Summer Camp Session 1 (Ages
  5-12)
X-WR-TIMEZONE:America/Denver
BEGIN:VEVENT
UID:program-recHyWMxomNPWii1y-season@athena.com
DTSTAMP:20260423T222648Z
DTSTART;VALUE=DATE:20260609
DTEND;VALUE=DATE:20260626
SUMMARY:Sport City Utah - Tumbling & Cheer Summer Camp Session 1 (Ages 5-12
 )
DESCRIPTION:Offered by: Sport City Utah\nAges: 5–12\nCost: $175\nRegister a
 t: https://www.sportcityutah.com/summer-camp\nView on Athena: https://athe
 na.com/programs/recHyWMxomNPWii1y
LOCATION:Draper\, UT
URL:https://athena.com/programs/recHyWMxomNPWii1y
END:VEVENT
END:VCALENDAR