BEGIN:VCALENDAR
VERSION:2.0
PRODID:-//Athena//Youth Programs//EN
CALSCALE:GREGORIAN
METHOD:PUBLISH
X-WR-CALNAME:The Ninja Playground - Summer Camp (Ages 5-13)
X-WR-TIMEZONE:America/Denver
BEGIN:VEVENT
UID:program-recH1Axa4yma6hNWS-season@athena.com
DTSTAMP:20260423T223004Z
DTSTART;VALUE=DATE:20260601
DTEND;VALUE=DATE:20260808
SUMMARY:The Ninja Playground - Summer Camp (Ages 5-13)
DESCRIPTION:Offered by: The Ninja Playground\nAges: 5–13\nCost: $180\nRegis
 ter at: https://www.theninjaplayground.com/summer-camp\nView on Athena: ht
 tps://athena.com/programs/recH1Axa4yma6hNWS
LOCATION:Lehi\, UT
URL:https://athena.com/programs/recH1Axa4yma6hNWS
END:VEVENT
END:VCALENDAR