BEGIN:VCALENDAR
VERSION:2.0
PRODID:-//Athena//Youth Programs//EN
CALSCALE:GREGORIAN
METHOD:PUBLISH
X-WR-CALNAME:North Utah County Soccer
X-WR-TIMEZONE:America/Denver
BEGIN:VEVENT
UID:program-recGtnb1ILVI6B2x2-season@athena.com
DTSTAMP:20260423T223004Z
DTSTART;VALUE=DATE:20260418
DTEND;VALUE=DATE:20260419
SUMMARY:North Utah County Soccer
DESCRIPTION:Offered by: North Utah County Soccer\nAges: 3–9\nCost: $10\nReg
 ister at: https://www.northutahcountysoccer.com/\nView on Athena: https://
 athena.com/programs/recGtnb1ILVI6B2x2
LOCATION:Lehi\, UT
URL:https://athena.com/programs/recGtnb1ILVI6B2x2
END:VEVENT
BEGIN:VEVENT
UID:program-recGtnb1ILVI6B2x2-deadline@athena.com
DTSTAMP:20260423T223004Z
DTSTART;VALUE=DATE:20260201
DTEND;VALUE=DATE:20260202
SUMMARY:Register by today: North Utah County Soccer
DESCRIPTION:Registration deadline for North Utah County Soccer.\n\nOffered 
 by: North Utah County Soccer\nAges: 3–9\nCost: $10\nRegister at: https://w
 ww.northutahcountysoccer.com/\nView on Athena: https://athena.com/programs
 /recGtnb1ILVI6B2x2
LOCATION:Lehi\, UT
URL:https://athena.com/programs/recGtnb1ILVI6B2x2
END:VEVENT
END:VCALENDAR