BEGIN:VCALENDAR
VERSION:2.0
PRODID:-//Athena//Youth Programs//EN
CALSCALE:GREGORIAN
METHOD:PUBLISH
X-WR-CALNAME:Boys Baseball
X-WR-TIMEZONE:America/Denver
BEGIN:VEVENT
UID:program-recF6zU6hPRtiv2oO-season@athena.com
DTSTAMP:20260423T223041Z
DTSTART;VALUE=DATE:20260314
DTEND;VALUE=DATE:20260315
SUMMARY:Boys Baseball
DESCRIPTION:Offered by: Lehi Legacy Center\nAges: 8–13\nRegister at: https:
 //www.lehi-ut.gov/recreation-community/legacy-center/sports/youth-sports/\
 nView on Athena: https://athena.com/programs/recF6zU6hPRtiv2oO
LOCATION:Lehi\, UT
URL:https://athena.com/programs/recF6zU6hPRtiv2oO
END:VEVENT
BEGIN:VEVENT
UID:program-recF6zU6hPRtiv2oO-deadline@athena.com
DTSTAMP:20260423T223041Z
DTSTART;VALUE=DATE:20260211
DTEND;VALUE=DATE:20260212
SUMMARY:Register by today: Boys Baseball
DESCRIPTION:Registration deadline for Boys Baseball.\n\nOffered by: Lehi Le
 gacy Center\nAges: 8–13\nRegister at: https://www.lehi-ut.gov/recreation-c
 ommunity/legacy-center/sports/youth-sports/\nView on Athena: https://athen
 a.com/programs/recF6zU6hPRtiv2oO
LOCATION:Lehi\, UT
URL:https://athena.com/programs/recF6zU6hPRtiv2oO
END:VEVENT
END:VCALENDAR