BEGIN:VCALENDAR
VERSION:2.0
PRODID:-//Athena//Youth Programs//EN
CALSCALE:GREGORIAN
METHOD:PUBLISH
X-WR-CALNAME:Kids Sports Camp
X-WR-TIMEZONE:America/Denver
BEGIN:VEVENT
UID:program-recCfd3t2WEio2VvG-season@athena.com
DTSTAMP:20260423T205629Z
DTSTART;VALUE=DATE:20260727
DTEND;VALUE=DATE:20260728
SUMMARY:Kids Sports Camp
DESCRIPTION:Offered by: Lehi Legacy Center\nAges: 6–12\nRegister at: https:
 //www.lehi-ut.gov/recreation-community/legacy-center/sports/youth-sports/\
 nView on Athena: https://athena.com/programs/recCfd3t2WEio2VvG
LOCATION:Lehi\, UT
URL:https://athena.com/programs/recCfd3t2WEio2VvG
END:VEVENT
BEGIN:VEVENT
UID:program-recCfd3t2WEio2VvG-deadline@athena.com
DTSTAMP:20260423T205629Z
DTSTART;VALUE=DATE:20260722
DTEND;VALUE=DATE:20260723
SUMMARY:Register by today: Kids Sports Camp
DESCRIPTION:Registration deadline for Kids Sports Camp.\n\nOffered by: Lehi
  Legacy Center\nAges: 6–12\nRegister at: https://www.lehi-ut.gov/recreatio
 n-community/legacy-center/sports/youth-sports/\nView on Athena: https://at
 hena.com/programs/recCfd3t2WEio2VvG
LOCATION:Lehi\, UT
URL:https://athena.com/programs/recCfd3t2WEio2VvG
END:VEVENT
END:VCALENDAR