BEGIN:VCALENDAR
VERSION:2.0
PRODID:-//Athena//Youth Programs//EN
CALSCALE:GREGORIAN
METHOD:PUBLISH
X-WR-CALNAME:BYU Swim Sprint Clinic 1
X-WR-TIMEZONE:America/Denver
BEGIN:VEVENT
UID:program-recCNfoIQFsfaPXyq-season@athena.com
DTSTAMP:20260423T222428Z
DTSTART;VALUE=DATE:20260529
DTEND;VALUE=DATE:20260601
SUMMARY:BYU Swim Sprint Clinic 1
DESCRIPTION:Offered by: BYU Sports Camps\nCost: $199\nRegister at: https://
 campscui.active.com/orgs/BrighamYoungUniversity0?newcui=true#/selectSessio
 ns/3741635\nView on Athena: https://athena.com/programs/recCNfoIQFsfaPXyq
LOCATION:Provo\, UT
URL:https://athena.com/programs/recCNfoIQFsfaPXyq
END:VEVENT
END:VCALENDAR