BEGIN:VCALENDAR
VERSION:2.0
PRODID:-//Athena//Youth Programs//EN
CALSCALE:GREGORIAN
METHOD:PUBLISH
X-WR-CALNAME:Saratoga Sports Camp (Ages 6-11) - Session 1
X-WR-TIMEZONE:America/Denver
BEGIN:VEVENT
UID:program-recC0LNedRR5MNtRY-season@athena.com
DTSTAMP:20260423T222957Z
DTSTART;VALUE=DATE:20260615
DTEND;VALUE=DATE:20260619
SUMMARY:Saratoga Sports Camp (Ages 6-11) - Session 1
DESCRIPTION:Offered by: Saratoga Springs Recreation\nAges: 6–11\nCost: $80\
 nRegister at: https://www.saratogasprings-ut.gov/2291/Saratoga-Summer-Camp
 s\nView on Athena: https://athena.com/programs/recC0LNedRR5MNtRY
LOCATION:Saratoga Springs\, UT
URL:https://athena.com/programs/recC0LNedRR5MNtRY
END:VEVENT
END:VCALENDAR