BEGIN:VCALENDAR
VERSION:2.0
PRODID:-//Athena//Youth Programs//EN
CALSCALE:GREGORIAN
METHOD:PUBLISH
X-WR-CALNAME:Utah Valley Tennis Club
X-WR-TIMEZONE:America/Denver
BEGIN:VEVENT
UID:program-recBoMNNZR8kJZbdl-season@athena.com
DTSTAMP:20260423T223041Z
DTSTART;VALUE=DATE:20260526
DTEND;VALUE=DATE:20260807
SUMMARY:Utah Valley Tennis Club
DESCRIPTION:Offered by: Utah Valley Tennis Club\nRegister at: https://utahv
 alleytennisclub.com/\nView on Athena: https://athena.com/programs/recBoMNN
 ZR8kJZbdl
LOCATION:Lehi\, UT
URL:https://athena.com/programs/recBoMNNZR8kJZbdl
END:VEVENT
END:VCALENDAR