BEGIN:VCALENDAR
VERSION:2.0
PRODID:-//Athena//Youth Programs//EN
CALSCALE:GREGORIAN
METHOD:PUBLISH
X-WR-CALNAME:BYU Cubs Golf 3: Morning Session
X-WR-TIMEZONE:America/Denver
BEGIN:VEVENT
UID:program-recBjOFl02uhA9M3F-season@athena.com
DTSTAMP:20260423T222815Z
DTSTART;VALUE=DATE:20260604
DTEND;VALUE=DATE:20260608
SUMMARY:BYU Cubs Golf 3: Morning Session
DESCRIPTION:Offered by: BYU Sports Camps\nCost: $310\nRegister at: https://
 campscui.active.com/orgs/BrighamYoungUniversity0?newcui=true#/selectSessio
 ns/3741635\nView on Athena: https://athena.com/programs/recBjOFl02uhA9M3F
LOCATION:American Fork\, UT
URL:https://athena.com/programs/recBjOFl02uhA9M3F
END:VEVENT
END:VCALENDAR