BEGIN:VCALENDAR
VERSION:2.0
PRODID:-//Athena//Youth Programs//EN
CALSCALE:GREGORIAN
METHOD:PUBLISH
X-WR-CALNAME:BYU Basketball Skills & Agility Development Clinic 1 - Afterno
 on
X-WR-TIMEZONE:America/Denver
BEGIN:VEVENT
UID:program-recBXaUhdKKphQ0Ct-season@athena.com
DTSTAMP:20260423T223133Z
DTSTART;VALUE=DATE:20260605
DTEND;VALUE=DATE:20260608
SUMMARY:BYU Basketball Skills & Agility Development Clinic 1 - Afternoon
DESCRIPTION:Offered by: BYU Sports Camps\nCost: $195\nRegister at: https://
 campscui.active.com/orgs/BrighamYoungUniversity0?newcui=true#/selectSessio
 ns/3741635\nView on Athena: https://athena.com/programs/recBXaUhdKKphQ0Ct
LOCATION:Provo\, UT
URL:https://athena.com/programs/recBXaUhdKKphQ0Ct
END:VEVENT
END:VCALENDAR