BEGIN:VCALENDAR
VERSION:2.0
PRODID:-//Athena//Youth Programs//EN
CALSCALE:GREGORIAN
METHOD:PUBLISH
X-WR-CALNAME:Utah Rec Sports - Summer Youth Basketball
X-WR-TIMEZONE:America/Denver
BEGIN:VEVENT
UID:program-recBEiJX0mAdp76LU-season@athena.com
DTSTAMP:20260423T222627Z
DTSTART;VALUE=DATE:20260608
DTEND;VALUE=DATE:20260630
SUMMARY:Utah Rec Sports - Summer Youth Basketball
DESCRIPTION:Offered by: Utah Rec Sports\nCost: $35\nRegister at: https://ut
 ahrecsports.com/register/summer-season-sports/\nView on Athena: https://at
 hena.com/programs/recBEiJX0mAdp76LU
LOCATION:Lehi\, UT
URL:https://athena.com/programs/recBEiJX0mAdp76LU
END:VEVENT
END:VCALENDAR