BEGIN:VCALENDAR
VERSION:2.0
PRODID:-//Athena//Youth Programs//EN
CALSCALE:GREGORIAN
METHOD:PUBLISH
X-WR-CALNAME:American Fork Girls Softball
X-WR-TIMEZONE:America/Denver
BEGIN:VEVENT
UID:program-rec9T5izKcHp77zql-season@athena.com
DTSTAMP:20260423T223041Z
DTSTART;VALUE=DATE:20260428
DTEND;VALUE=DATE:20260701
SUMMARY:American Fork Girls Softball
DESCRIPTION:Offered by: American Fork Recreation\nAges: 12–18\nCost: $125\n
 Register at: https://www.americanfork.gov/708/Girls-Softball-7th-12th-Grad
 es\nView on Athena: https://athena.com/programs/rec9T5izKcHp77zql
LOCATION:American Fork\, UT
URL:https://athena.com/programs/rec9T5izKcHp77zql
END:VEVENT
BEGIN:VEVENT
UID:program-rec9T5izKcHp77zql-deadline@athena.com
DTSTAMP:20260423T223041Z
DTSTART;VALUE=DATE:20260225
DTEND;VALUE=DATE:20260226
SUMMARY:Register by today: American Fork Girls Softball
DESCRIPTION:Registration deadline for American Fork Girls Softball.\n\nOffe
 red by: American Fork Recreation\nAges: 12–18\nCost: $125\nRegister at: ht
 tps://www.americanfork.gov/708/Girls-Softball-7th-12th-Grades\nView on Ath
 ena: https://athena.com/programs/rec9T5izKcHp77zql
LOCATION:American Fork\, UT
URL:https://athena.com/programs/rec9T5izKcHp77zql
END:VEVENT
END:VCALENDAR