BEGIN:VCALENDAR
VERSION:2.0
PRODID:-//Athena//Youth Programs//EN
CALSCALE:GREGORIAN
METHOD:PUBLISH
X-WR-CALNAME:Tennis Lessons
X-WR-TIMEZONE:America/Denver
BEGIN:VEVENT
UID:program-rec9PHTKxUaXVMwwE-season@athena.com
DTSTAMP:20260423T204957Z
DTSTART;VALUE=DATE:20260803
DTEND;VALUE=DATE:20260804
SUMMARY:Tennis Lessons
DESCRIPTION:Offered by: Lehi Legacy Center\nAges: 5–17\nRegister at: https:
 //www.lehi-ut.gov/recreation-community/legacy-center/sports/youth-sports/\
 nView on Athena: https://athena.com/programs/rec9PHTKxUaXVMwwE
LOCATION:Lehi\, UT
URL:https://athena.com/programs/rec9PHTKxUaXVMwwE
END:VEVENT
BEGIN:VEVENT
UID:program-rec9PHTKxUaXVMwwE-deadline@athena.com
DTSTAMP:20260423T204957Z
DTSTART;VALUE=DATE:20260729
DTEND;VALUE=DATE:20260730
SUMMARY:Register by today: Tennis Lessons
DESCRIPTION:Registration deadline for Tennis Lessons.\n\nOffered by: Lehi L
 egacy Center\nAges: 5–17\nRegister at: https://www.lehi-ut.gov/recreation-
 community/legacy-center/sports/youth-sports/\nView on Athena: https://athe
 na.com/programs/rec9PHTKxUaXVMwwE
LOCATION:Lehi\, UT
URL:https://athena.com/programs/rec9PHTKxUaXVMwwE
END:VEVENT
END:VCALENDAR