BEGIN:VCALENDAR
VERSION:2.0
PRODID:-//Athena//Youth Programs//EN
CALSCALE:GREGORIAN
METHOD:PUBLISH
X-WR-CALNAME:Pleasant Grove Track & Field (Grades 5-9)
X-WR-TIMEZONE:America/Denver
BEGIN:VEVENT
UID:program-rec9MSQhLzzyHgmRJ-deadline@athena.com
DTSTAMP:20260423T222747Z
DTSTART;VALUE=DATE:20260315
DTEND;VALUE=DATE:20260316
SUMMARY:Register by today: Pleasant Grove Track & Field (Grades 5-9)
DESCRIPTION:Registration deadline for Pleasant Grove Track & Field (Grades 
 5-9).\n\nOffered by: Pleasant Grove Recreation\nAges: 10–14\nRegister at: 
 https://pgrec.activityreg.com/selectactivity_t2.wcs\nView on Athena: https
 ://athena.com/programs/rec9MSQhLzzyHgmRJ
LOCATION:Pleasant Grove\, UT
URL:https://athena.com/programs/rec9MSQhLzzyHgmRJ
END:VEVENT
END:VCALENDAR