BEGIN:VCALENDAR
VERSION:2.0
PRODID:-//Athena//Youth Programs//EN
CALSCALE:GREGORIAN
METHOD:PUBLISH
X-WR-CALNAME:Machine Pitch
X-WR-TIMEZONE:America/Denver
BEGIN:VEVENT
UID:program-rec9LSJW7KoL56G5Z-season@athena.com
DTSTAMP:20260423T222815Z
DTSTART;VALUE=DATE:20260404
DTEND;VALUE=DATE:20260405
SUMMARY:Machine Pitch
DESCRIPTION:Offered by: Lehi Legacy Center\nAges: 7–7\nRegister at: https:/
 /www.lehi-ut.gov/recreation-community/legacy-center/sports/youth-sports/\n
 View on Athena: https://athena.com/programs/rec9LSJW7KoL56G5Z
LOCATION:Lehi\, UT
URL:https://athena.com/programs/rec9LSJW7KoL56G5Z
END:VEVENT
BEGIN:VEVENT
UID:program-rec9LSJW7KoL56G5Z-deadline@athena.com
DTSTAMP:20260423T222815Z
DTSTART;VALUE=DATE:20260304
DTEND;VALUE=DATE:20260305
SUMMARY:Register by today: Machine Pitch
DESCRIPTION:Registration deadline for Machine Pitch.\n\nOffered by: Lehi Le
 gacy Center\nAges: 7–7\nRegister at: https://www.lehi-ut.gov/recreation-co
 mmunity/legacy-center/sports/youth-sports/\nView on Athena: https://athena
 .com/programs/rec9LSJW7KoL56G5Z
LOCATION:Lehi\, UT
URL:https://athena.com/programs/rec9LSJW7KoL56G5Z
END:VEVENT
END:VCALENDAR