BEGIN:VCALENDAR
VERSION:2.0
PRODID:-//Athena//Youth Programs//EN
CALSCALE:GREGORIAN
METHOD:PUBLISH
X-WR-CALNAME:The Ruth Academy - Summer Theater Camp Session 1 (Ages 8-12)
X-WR-TIMEZONE:America/Denver
BEGIN:VEVENT
UID:program-rec7y3VLbIGtdWA3I-season@athena.com
DTSTAMP:20260423T222652Z
DTSTART;VALUE=DATE:20260615
DTEND;VALUE=DATE:20260620
SUMMARY:The Ruth Academy - Summer Theater Camp Session 1 (Ages 8-12)
DESCRIPTION:Offered by: The Ruth / Hale Centre Theatre\nAges: 8–12\nRegiste
 r at: https://www.theruth.org/education/summer-camps\nView on Athena: http
 s://athena.com/programs/rec7y3VLbIGtdWA3I
LOCATION:Orem\, UT
URL:https://athena.com/programs/rec7y3VLbIGtdWA3I
END:VEVENT
END:VCALENDAR