BEGIN:VCALENDAR
VERSION:2.0
PRODID:-//Athena//Youth Programs//EN
CALSCALE:GREGORIAN
METHOD:PUBLISH
X-WR-CALNAME:Wasatch Nature School - Big Kid Camp (Ages 9-12)
X-WR-TIMEZONE:America/Denver
BEGIN:VEVENT
UID:program-rec7tidxJ0bLm4pQv-season@athena.com
DTSTAMP:20260423T223204Z
DTSTART;VALUE=DATE:20260601
DTEND;VALUE=DATE:20260801
SUMMARY:Wasatch Nature School - Big Kid Camp (Ages 9-12)
DESCRIPTION:Offered by: Wasatch Nature School\nAges: 9–12\nCost: $180\nRegi
 ster at: https://www.wasatchnatureschool.org/summercamp2026\nView on Athen
 a: https://athena.com/programs/rec7tidxJ0bLm4pQv
LOCATION:Provo\, UT
URL:https://athena.com/programs/rec7tidxJ0bLm4pQv
END:VEVENT
END:VCALENDAR