BEGIN:VCALENDAR
VERSION:2.0
PRODID:-//Athena//Youth Programs//EN
CALSCALE:GREGORIAN
METHOD:PUBLISH
X-WR-CALNAME:Caveman Youth Football - SUU 9th Grade Camp
X-WR-TIMEZONE:America/Denver
BEGIN:VEVENT
UID:program-rec7FuExgZQXk8oXP-season@athena.com
DTSTAMP:20260423T222621Z
DTSTART;VALUE=DATE:20260622
DTEND;VALUE=DATE:20260626
SUMMARY:Caveman Youth Football - SUU 9th Grade Camp
DESCRIPTION:Offered by: Caveman Youth Football\nRegister at: https://www.ca
 vemanyouthfootball.org/\nView on Athena: https://athena.com/programs/rec7F
 uExgZQXk8oXP
LOCATION:American Fork\, UT
URL:https://athena.com/programs/rec7FuExgZQXk8oXP
END:VEVENT
END:VCALENDAR