BEGIN:VCALENDAR
VERSION:2.0
PRODID:-//Athena//Youth Programs//EN
CALSCALE:GREGORIAN
METHOD:PUBLISH
X-WR-CALNAME:Utah Elite Soccer Camp - Lehi Session 1
X-WR-TIMEZONE:America/Denver
BEGIN:VEVENT
UID:program-rec77ECCWUZTK7drz-season@athena.com
DTSTAMP:20260423T222527Z
DTSTART;VALUE=DATE:20260602
DTEND;VALUE=DATE:20260607
SUMMARY:Utah Elite Soccer Camp - Lehi Session 1
DESCRIPTION:Offered by: Utah Elite Soccer\nAges: 4–12\nRegister at: https:/
 /www.utahelitesoccer.org/\nView on Athena: https://athena.com/programs/rec
 77ECCWUZTK7drz
LOCATION:Lehi\, UT
URL:https://athena.com/programs/rec77ECCWUZTK7drz
END:VEVENT
END:VCALENDAR