BEGIN:VCALENDAR
VERSION:2.0
PRODID:-//Athena//Youth Programs//EN
CALSCALE:GREGORIAN
METHOD:PUBLISH
X-WR-CALNAME:Orem Little Hoopsters Basketball Camp (K-2nd)
X-WR-TIMEZONE:America/Denver
BEGIN:VEVENT
UID:program-rec74gCaDCAePAXPJ-season@athena.com
DTSTAMP:20260423T222627Z
DTSTART;VALUE=DATE:20260527
DTEND;VALUE=DATE:20260528
SUMMARY:Orem Little Hoopsters Basketball Camp (K-2nd)
DESCRIPTION:Offered by: Orem Recreation\nAges: 5–8\nCost: $38\nRegister at:
  https://www.oremrecreation.com/sports-camps/\nView on Athena: https://ath
 ena.com/programs/rec74gCaDCAePAXPJ
LOCATION:Orem\, UT
URL:https://athena.com/programs/rec74gCaDCAePAXPJ
END:VEVENT
END:VCALENDAR